BEGIN:VCALENDAR
PRODID:-//IONAS//TVM//DE
VERSION:2.0
CALSCALE:GREGORIAN
BEGIN:VTIMEZONE
TZID:Europe/Berlin
LAST-MODIFIED:20201010T011803Z
TZURL:http://tzurl.org/zoneinfo/Europe/Berlin
X-LIC-LOCATION:Europe/Berlin
X-PROLEPTIC-TZNAME:LMT
BEGIN:STANDARD
TZNAME:CET
TZOFFSETFROM:+005328
TZOFFSETTO:+0100
DTSTART:18930401T000000
END:STANDARD
BEGIN:DAYLIGHT
TZNAME:CEST
TZOFFSETFROM:+0100
TZOFFSETTO:+0200
DTSTART:19160430T230000
RDATE:19400401T020000
RDATE:19430329T020000
RDATE:19460414T020000
RDATE:19470406T030000
RDATE:19480418T020000
RDATE:19490410T020000
RDATE:19800406T020000
END:DAYLIGHT
BEGIN:STANDARD
TZNAME:CET
TZOFFSETFROM:+0200
TZOFFSETTO:+0100
DTSTART:19161001T010000
RDATE:19421102T030000
RDATE:19431004T030000
RDATE:19441002T030000
RDATE:19451118T030000
RDATE:19461007T030000
END:STANDARD
BEGIN:DAYLIGHT
TZNAME:CEST
TZOFFSETFROM:+0100
TZOFFSETTO:+0200
DTSTART:19170416T020000
RRULE:FREQ=YEARLY;UNTIL=19180415T010000Z;BYMONTH=4;BYDAY=3MO
END:DAYLIGHT
BEGIN:STANDARD
TZNAME:CET
TZOFFSETFROM:+0200
TZOFFSETTO:+0100
DTSTART:19170917T030000
RRULE:FREQ=YEARLY;UNTIL=19180916T010000Z;BYMONTH=9;BYDAY=3MO
END:STANDARD
BEGIN:DAYLIGHT
TZNAME:CEST
TZOFFSETFROM:+0100
TZOFFSETTO:+0200
DTSTART:19440403T020000
RRULE:FREQ=YEARLY;UNTIL=19450402T010000Z;BYMONTH=4;BYDAY=1MO
END:DAYLIGHT
BEGIN:DAYLIGHT
TZNAME:CEMT
TZOFFSETFROM:+0200
TZOFFSETTO:+0300
DTSTART:19450524T020000
RDATE:19470511T030000
END:DAYLIGHT
BEGIN:DAYLIGHT
TZNAME:CEST
TZOFFSETFROM:+0300
TZOFFSETTO:+0200
DTSTART:19450924T030000
RDATE:19470629T030000
END:DAYLIGHT
BEGIN:STANDARD
TZNAME:CET
TZOFFSETFROM:+0100
TZOFFSETTO:+0100
DTSTART:19460101T000000
RDATE:19800101T000000
END:STANDARD
BEGIN:STANDARD
TZNAME:CET
TZOFFSETFROM:+0200
TZOFFSETTO:+0100
DTSTART:19471005T030000
RRULE:FREQ=YEARLY;UNTIL=19491002T010000Z;BYMONTH=10;BYDAY=1SU
END:STANDARD
BEGIN:STANDARD
TZNAME:CET
TZOFFSETFROM:+0200
TZOFFSETTO:+0100
DTSTART:19800928T030000
RRULE:FREQ=YEARLY;UNTIL=19950924T010000Z;BYMONTH=9;BYDAY=-1SU
END:STANDARD
BEGIN:DAYLIGHT
TZNAME:CEST
TZOFFSETFROM:+0100
TZOFFSETTO:+0200
DTSTART:19810329T020000
RRULE:FREQ=YEARLY;BYMONTH=3;BYDAY=-1SU
END:DAYLIGHT
BEGIN:STANDARD
TZNAME:CET
TZOFFSETFROM:+0200
TZOFFSETTO:+0100
DTSTART:19961027T030000
RRULE:FREQ=YEARLY;BYMONTH=10;BYDAY=-1SU
END:STANDARD
END:VTIMEZONE
BEGIN:VEVENT
DTSTAMP:20260426T003745Z
DTSTART;TZID=Europe/Berlin:20260507T150000
DTEND;TZID=Europe/Berlin:20260507T170000
SUMMARY:Repair-Café
CREATED:20260325T074027Z
LAST-MODIFIED:20260325T074105Z
DESCRIPTION:Am Samstag\, den 25. Januar 2025\, wurde das neue Repair-Café
  im Haus der Begegnung in Rosbach vor der Höhe feierlich eröffnet und ve
 rfolgt das Ziel\, Nachhaltigkeit zu fördern und den sozialen Zusammenhal
 t in der Stadt zu stärken. Es bietet den Besucherinnen und Besucher die 
 Gelegenheit\, defekte Kleidungsstücke\, Elektrogeräte oder andere Alltag
 sgegenstände zur Reparatur mitzubringen.\n\n\nDas Konzept des Repair-Caf
 és ist ebenso einfach wie wirkungsvoll: Unter dem Motto „Reparieren stat
 t Wegwerfen“ helfen Ehrenamtliche den Besucherinnen und Besuchern\, defe
 kte Gegenstände wieder instand zu setzen. Dabei geht es nicht nur darum\
 , Dinge zu reparieren\, sondern auch Wissen weiterzugeben. „Wir wollen z
 eigen\, dass vieles\, was auf den ersten Blick unbrauchbar scheint\, mit
  ein wenig handwerklichem Geschick gerettet werden kann“\, erklärte Jens
 -Jürgen Pietsch\, Vertreter des Senioren- und Inklusionsbeirates und Ans
 prechpartner für das Repair-Café bei der Eröffnung. Neben den Reparatura
 ngeboten gibt es zudem eine DIY-Beratung zum Thema Upcycling.\n\nEine An
 meldung ist nicht erforderlich. Ansprechpartner sind Jens-Jürgen Pietsch
  (jens-juergen.pietsch@sib-rosbach.de) sowie das Ehrenamtsbüro der Stadt
 verwaltung. „Wir fördern hier nicht nur Nachhaltigkeit\, sondern schaffe
 n auch einen Raum für Austausch und Gemeinschaft“\, betont Pietsch. Dabe
 i ist nicht das Ziel\, professionelle Reparaturbetriebe zu ersetzen\, so
 ndern einen Beitrag zur Ressourcenschonung zu leisten und das Miteinande
 r zu stärken.
LOCATION:Haus der Begegnung
X-LOCATION-NAME:Haus der Begegnung
X-STREET-ADDRESS:Am Bahnhof 5
X-POSTAL-CODE:61191
X-LOCALITY:Rosbach vor der Höhe
GEO:50.2981002;8.7009599
X-ORGANIZER-NAME:Senioren- und Inklusionsbeirat
X-IONAS-CATEGORY:Haus der Begegnung
CATEGORIES:Haus der Begegnung
ATTACH;FMTTYPE=image/jpeg:https://www.rosbach-hessen.de/kalender/2026/hau
 s-der-begegnung/2026-05-07-repair-cafe/img-8567.jpg?cid=hks.456w
UID:29fd0357-6066-4a7d-a54a-8fa0a2864e2f:2026-05-07
END:VEVENT
END:VCALENDAR
